BEGIN:VCALENDAR
VERSION:2.0
PRODID:-//Verein zur Pflege der Live-Musik e.V. - ECPv6.15.20//NONSGML v1.0//EN
CALSCALE:GREGORIAN
METHOD:PUBLISH
X-WR-CALNAME:Verein zur Pflege der Live-Musik e.V.
X-ORIGINAL-URL:https://www.livemusik-dossenheim.de
X-WR-CALDESC:Veranstaltungen für Verein zur Pflege der Live-Musik e.V.
REFRESH-INTERVAL;VALUE=DURATION:PT1H
X-Robots-Tag:noindex
X-PUBLISHED-TTL:PT1H
BEGIN:VTIMEZONE
TZID:Europe/Berlin
BEGIN:DAYLIGHT
TZOFFSETFROM:+0100
TZOFFSETTO:+0200
TZNAME:CEST
DTSTART:20250330T010000
END:DAYLIGHT
BEGIN:STANDARD
TZOFFSETFROM:+0200
TZOFFSETTO:+0100
TZNAME:CET
DTSTART:20251026T010000
END:STANDARD
BEGIN:DAYLIGHT
TZOFFSETFROM:+0100
TZOFFSETTO:+0200
TZNAME:CEST
DTSTART:20260329T010000
END:DAYLIGHT
BEGIN:STANDARD
TZOFFSETFROM:+0200
TZOFFSETTO:+0100
TZNAME:CET
DTSTART:20261025T010000
END:STANDARD
BEGIN:DAYLIGHT
TZOFFSETFROM:+0100
TZOFFSETTO:+0200
TZNAME:CEST
DTSTART:20270328T010000
END:DAYLIGHT
BEGIN:STANDARD
TZOFFSETFROM:+0200
TZOFFSETTO:+0100
TZNAME:CET
DTSTART:20271031T010000
END:STANDARD
END:VTIMEZONE
BEGIN:VEVENT
DTSTART;TZID=Europe/Berlin:20260905T193000
DTEND;TZID=Europe/Berlin:20260905T220000
DTSTAMP:20260420T155001
CREATED:20251005T103344Z
LAST-MODIFIED:20251005T103344Z
UID:4275-1788636600-1788645600@www.livemusik-dossenheim.de
SUMMARY:Garten Konzert
DESCRIPTION:Eintritt 15 EUR \nKarten-Vorverkauf | Reservierung
URL:https://www.livemusik-dossenheim.de/veranstaltung/garten-konzert-10/
LOCATION:Haus der Musik\, Dürreäcker 1\, Dossenheim\, 69221\, Germany
CATEGORIES:Gartenkonzert
ATTACH;FMTTYPE=image/jpeg:https://www.livemusik-dossenheim.de/wp-content/uploads/2025/10/IMG_27627250FE8A-1.jpeg
END:VEVENT
BEGIN:VEVENT
DTSTART;TZID=Europe/Berlin:20260919T150000
DTEND;TZID=Europe/Berlin:20260919T233000
DTSTAMP:20260420T155001
CREATED:20251005T104059Z
LAST-MODIFIED:20251112T161335Z
UID:4277-1789830000-1789860600@www.livemusik-dossenheim.de
SUMMARY:Kerwe Samstag in der Museumsscheuer mit Whats Up
DESCRIPTION:Wir sind wieder dabei! Live Musik in der Museumsscheuer am Kerwe Samstag mit Whats Up \nEssen – Getränke – beste Musik \nEintritt frei!
URL:https://www.livemusik-dossenheim.de/veranstaltung/kerwe-samstag-in-der-museumsscheuer/
LOCATION:Museumsscheuer\, Rathausstraße 47\, Dossenheim\, 69221\, Germany
CATEGORIES:Museumsscheuer
ATTACH;FMTTYPE=image/jpeg:https://www.livemusik-dossenheim.de/wp-content/uploads/2025/10/IMG_7C9D3629526E-1.jpeg
END:VEVENT
BEGIN:VEVENT
DTSTART;TZID=Europe/Berlin:20260927T150000
DTEND;TZID=Europe/Berlin:20260927T180000
DTSTAMP:20260420T155001
CREATED:20251005T104421Z
LAST-MODIFIED:20251005T104421Z
UID:4280-1790521200-1790532000@www.livemusik-dossenheim.de
SUMMARY:Garten Konzert am Nachmittag
DESCRIPTION:Eintritt 15 EUR \nKarten-Vorverkauf | Reservierung
URL:https://www.livemusik-dossenheim.de/veranstaltung/garten-konzert-am-nachmittag/
LOCATION:Haus der Musik\, Dürreäcker 1\, Dossenheim\, 69221\, Germany
CATEGORIES:Gartenkonzert
ATTACH;FMTTYPE=image/jpeg:https://www.livemusik-dossenheim.de/wp-content/uploads/2025/10/IMG_27627250FE8A-1.jpeg
END:VEVENT
END:VCALENDAR